BEGIN:VCALENDAR
PRODID:-//fullcourt Productions//NONSGML v1.0//EN
VERSION:2.0
X-WR-TIMEZONE:America/New_York
BEGIN:VEVENT
DTSTART:20221230T104500
DTEND:20221230T124500
DTSTAMP:20260424T145633
UID:7eb7eabbe9bd03c2fc99881d04da9cbd1769@www.motorcityroundball.com
CREATED:20260424T145633
DESCRIPTION:Detroit Southeastern (B) vs. Dearborn Fordson (B) 10:45 AM, Game Completed
LOCATION:Ferndale HS
SUMMARY:Detroit Southeastern (B) vs. Dearborn Fordson (B)
END:VEVENT
END:VCALENDAR
