BEGIN:VCALENDAR
PRODID:-//fullcourt Productions//NONSGML v1.0//EN
VERSION:2.0
X-WR-TIMEZONE:America/New_York
BEGIN:VEVENT
DTSTART:20221230T165500
DTEND:20221230T185500
DTSTAMP:20260424T145634
UID:4abe17a1c80cbdd2aa241b70840879de1773@www.motorcityroundball.com
CREATED:20260424T145634
DESCRIPTION:Novi Detroit Catholic Central (B) vs. Ecorse (B) 4:55 PM, Game Completed
LOCATION:Ferndale HS
SUMMARY:Novi Detroit Catholic Central (B) vs. Ecorse (B)
END:VEVENT
END:VCALENDAR
