BEGIN:VCALENDAR
PRODID:-//fullcourt Productions//NONSGML v1.0//EN
VERSION:2.0
X-WR-TIMEZONE:America/New_York
BEGIN:VEVENT
DTSTART:20221227T165500
DTEND:20221227T185500
DTSTAMP:20260424T145623
UID:11c484ea9305ea4c7bb6b2e6d570d4661752@www.motorcityroundball.com
CREATED:20260424T145623
DESCRIPTION:West Bloomfield (B) vs. Grosse Point South (B) 4:55 PM, Game Completed
LOCATION:Ferndale HS
SUMMARY:West Bloomfield (B) vs. Grosse Point South (B)
END:VEVENT
END:VCALENDAR
