BEGIN:VCALENDAR
PRODID:-//fullcourt Productions//NONSGML v1.0//EN
VERSION:2.0
X-WR-TIMEZONE:America/New_York
BEGIN:VEVENT
DTSTART:20221227T135000
DTEND:20221227T155000
DTSTAMP:20260424T145634
UID:6a5dfac4be1502501489fc0f5a24b6671750@www.motorcityroundball.com
CREATED:20260424T145634
DESCRIPTION:Canton (B) vs. Walled Lake Western (B) 1:50 PM, Game Completed
LOCATION:Ferndale HS
SUMMARY:Canton (B) vs. Walled Lake Western (B)
END:VEVENT
END:VCALENDAR
