BEGIN:VCALENDAR
PRODID:-//fullcourt Productions//NONSGML v1.0//EN
VERSION:2.0
X-WR-TIMEZONE:America/New_York
BEGIN:VEVENT
DTSTART:20221229T195500
DTEND:20221229T215500
DTSTAMP:20260421T095322
UID:db29450c3f5e97f97846693611f98c151768@www.motorcityroundball.com
CREATED:20260421T095322
DESCRIPTION:Romulus Summit North vs. Detroit Loyola (B) 7:55 PM, Game Completed
LOCATION:Ferndale HS
SUMMARY:Romulus Summit North vs. Detroit Loyola (B)
END:VEVENT
END:VCALENDAR
