BEGIN:VCALENDAR
PRODID:-//fullcourt Productions//NONSGML v1.0//EN
VERSION:2.0
X-WR-TIMEZONE:America/New_York
BEGIN:VEVENT
DTSTART:20221229T165500
DTEND:20221229T185500
DTSTAMP:20260424T145621
UID:96a93ba89a5b5c6c226e49b88973f46e1766@www.motorcityroundball.com
CREATED:20260424T145621
DESCRIPTION:Dexter vs. Flint Carman-Ainsworth 4:55 PM, Game Completed
LOCATION:Ferndale HS
SUMMARY:Dexter vs. Flint Carman-Ainsworth
END:VEVENT
END:VCALENDAR
