BEGIN:VCALENDAR
PRODID:-//fullcourt Productions//NONSGML v1.0//EN
VERSION:2.0
X-WR-TIMEZONE:America/New_York
BEGIN:VEVENT
DTSTART:20221230T195500
DTEND:20221230T215500
DTSTAMP:20260421T094212
UID:36d7534290610d9b7e9abed244dd2f281775@www.motorcityroundball.com
CREATED:20260421T094212
DESCRIPTION:Grand Rapids Catholic Central vs. Warren DeLaSalle (B) 7:55 PM, Game Completed
LOCATION:Ferndale HS
SUMMARY:Grand Rapids Catholic Central vs. Warren DeLaSalle (B)
END:VEVENT
END:VCALENDAR
