BEGIN:VCALENDAR
PRODID:-//fullcourt Productions//NONSGML v1.0//EN
VERSION:2.0
X-WR-TIMEZONE:America/New_York
BEGIN:VEVENT
DTSTART:20221230T121500
DTEND:20221230T141500
DTSTAMP:20260421T110740
UID:e5a4d6bf330f23a8707bb0d6001dfbe81770@www.motorcityroundball.com
CREATED:20260421T110740
DESCRIPTION:Dearborn (B) vs. Berkley (B) 12:15 PM, Game Completed
LOCATION:Ferndale HS
SUMMARY:Dearborn (B) vs. Berkley (B)
END:VEVENT
END:VCALENDAR
